BEGIN:VCALENDAR
VERSION:2.0
PRODID:-//Urell - ECPv6.15.20//NONSGML v1.0//EN
CALSCALE:GREGORIAN
METHOD:PUBLISH
X-WR-CALNAME:Urell
X-ORIGINAL-URL:https://urell.com
X-WR-CALDESC:Events for Urell
REFRESH-INTERVAL;VALUE=DURATION:PT1H
X-Robots-Tag:noindex
X-PUBLISHED-TTL:PT1H
BEGIN:VTIMEZONE
TZID:UTC
BEGIN:STANDARD
TZOFFSETFROM:+0000
TZOFFSETTO:+0000
TZNAME:UTC
DTSTART:20250101T000000
END:STANDARD
END:VTIMEZONE
BEGIN:VEVENT
DTSTART;VALUE=DATE:20260506
DTEND;VALUE=DATE:20260508
DTSTAMP:20260423T115544
CREATED:20260306T182229Z
LAST-MODIFIED:20260306T182229Z
UID:2592-1778025600-1778198399@urell.com
SUMMARY:Better Building by Design 2026
DESCRIPTION:
URL:https://urell.com/event/better-building-by-design-2026/
LOCATION:DoubleTree by Hilton\, South Burlington\, VT\, 870 Williston Road\, South Burlington\, VT\, 05403\, United States
END:VEVENT
END:VCALENDAR